BEGIN:VCALENDAR
VERSION:2.0
PRODID:gruene-teltow-flaeming.de
METHOD:PUBLISH
BEGIN:VTIMEZONE
TZID:Europe/Berlin
X-LIC-LOCATION:Europe/Berlin
BEGIN:DAYLIGHT
TZOFFSETFROM:+0100
TZOFFSETTO:+0200
TZNAME:CEST
DTSTART:19700329T020000
RRULE:FREQ=YEARLY;INTERVAL=1;BYDAY=-1SU;BYMONTH=3
END:DAYLIGHT
BEGIN:STANDARD
TZOFFSETFROM:+0200
TZOFFSETTO:+0100
TZNAME:CET
DTSTART:19701025T030000
RRULE:FREQ=YEARLY;INTERVAL=1;BYDAY=-1SU;BYMONTH=10
END:STANDARD
END:VTIMEZONE
BEGIN:VEVENT
UID:4adccceabb262f05395c38508c027d03@gruene-teltow-flaeming.de
URL;VALUE=URI:https://gruene-teltow-flaeming.de/termine/filmvorstellung-u
 nd-diskussion/
LOCATION:Rangsdorfer Rathaus, Seebadallee 30, 15834 Rangsdorf
SUMMARY:Filmvorstellung und Diskussion
DESCRIPTION;ALTREP="data:text/html,%0A%3Cp%3EAus%20dem%20Logbuch%20einer%
 20politischen%20Weltumsegelung%20von%20Stralsund%20bis%20Tahiti%20bericht
 et%20Michael%20Jungclaus%20am%2029.01.2025%20im%20Rangsdorfer%20Rathaus.%
 20Zu%20der%20Filmvorstellung%20l%C3%A4dt%20die%20Rangsdorfer%20Ortsgruppe
 %20von%20B%C3%BCndnis%2090%2FDie%20Gr%C3%BCnen%20ein.%20Der%20ehemalige%2
 0%C2%A0Landtagsabgeordnete%20und%20seine%20Frau%20Uta%20umsegelten%20von%
 202019%20bis%202024%20die%20Welt%20mit%20ihrem%20Segelboot%20Daphne.%20De
 n%20ersten%20Teil%20ihrer%20Reise%20%E2%80%9EFast%20w%C3%A4r%E2%80%99s%20
 das%20Paradies%E2%80%9C%20werden%20sie%20am%2029.01%20um%2018%3A30%20Uhr%
 20im%20Sitzungssaal%20zeigen.%3C%2Fp%3E%0A%0A%0A%0A%3Cp%3EUm%20eine%20Anm
 eldung%20unter%20%3Ca%20href%3D%22mailto%3Aclaire-luise.heydick%40rangsdo
 rf.de%22%3Eclaire-luise.heydick%40rangsdorf.de%3C%2Fa%3E%20wird%20gebeten
 .%3C%2Fp%3E%0A":Aus dem Logbuch einer politischen Weltumsegelung von Stra
 lsund bis Tahiti berichtet Michael Jungclaus am 29.01.2025 im Rangsdorfer
  Rathaus. Zu der Filmvorstellung lädt die Rangsdorfer Ortsgruppe von Bü
 ndnis 90/Die Grünen ein. Der ehemalige  Landtagsabgeordnete und seine F
 rau Uta umsegelten von 2019 bis 2024 die Welt mit ihrem Segelboot Daphne.
  Den ersten Teil ihrer Reise „Fast wär’s das Paradies“ werden sie 
 am 29.01 um 18:30 Uhr im Sitzungssaal zeigen.\n\nUm eine Anmeldung unter 
 claire-luise.heydick@rangsdorf.de wird gebeten.
CLASS:PUBLIC
DTSTART;TZID=Europe/Berlin:20250129T183000
DTEND;TZID=Europe/Berlin:20250129T193000
DTSTAMP:20260422T195541
END:VEVENT
END:VCALENDAR